BEGIN:VCALENDAR
VERSION:2.0
PRODID:-//Engineering Online - ECPv6.15.20//NONSGML v1.0//EN
CALSCALE:GREGORIAN
METHOD:PUBLISH
X-WR-CALNAME:Engineering Online
X-ORIGINAL-URL:https://engineeringonline.ncsu.edu
X-WR-CALDESC:Events for Engineering Online
REFRESH-INTERVAL;VALUE=DURATION:PT1H
X-Robots-Tag:noindex
X-PUBLISHED-TTL:PT1H
BEGIN:VTIMEZONE
TZID:UTC
BEGIN:STANDARD
TZOFFSETFROM:+0000
TZOFFSETTO:+0000
TZNAME:UTC
DTSTART:20240101T000000
END:STANDARD
END:VTIMEZONE
BEGIN:VEVENT
DTSTART;VALUE=DATE:20250211
DTEND;VALUE=DATE:20250212
DTSTAMP:20260420T121902
CREATED:20250118T080052Z
LAST-MODIFIED:20250109T154656Z
UID:34718-1739232000-1739318399@engineeringonline.ncsu.edu
SUMMARY:Wellness Day (No classes)
DESCRIPTION:
URL:https://engineeringonline.ncsu.edu/event/wellness-day-no-classes-3/
END:VEVENT
END:VCALENDAR